BEGIN:VCALENDAR
VERSION:2.0
PRODID:-//ChamberMaster//Event Calendar 2.0//EN
METHOD:PUBLISH
X-PUBLISHED-TTL:P3D
REFRESH-INTERVAL:P3D
CALSCALE:GREGORIAN
BEGIN:VEVENT
DTSTART:20220525T120000Z
DTEND:20220525T130000Z
X-MICROSOFT-CDO-ALLDAYEVENT:FALSE
SUMMARY:Coffee and Conversation
DESCRIPTION:Join us at the Chamber for coffee and conversation. Network with Chamber members\, and learn how to join the Southeast Kentucky Chamber. We look forward to starting the day with you\, sharing ideas\, and learning more about your business's opportunities and challenges!
X-ALT-DESC;FMTTYPE=text/html:<span class="d2edcug0 hpfvmrgz qv66sw1b c1et5uql lr9zc1uh a8c37x1j fe6kdd0r mau55g9w c8b282yb keod5gw0 nxhoafnm aigsh9s9 d3f4x2em iv3no6db jq4qci2q a3bd9o3v b1v8xokw oo9gr5id hzawbc8m" dir="auto">Join us at the Chamber for coffee and conversation. Network with Chamber members\, and learn how to join the Southeast Kentucky Chamber. We look forward to starting the day with you\, sharing ideas\, and learning more about your business&rsquo\;s opportunities and challenges!</span>
LOCATION:178 College Street | Pikeville\, KY 41501
UID:e.1576.4652
SEQUENCE:3
DTSTAMP:20260422T043057Z
URL:https://business.sekchamber.com/events/details/coffee-and-conversation-4652
END:VEVENT

END:VCALENDAR
